BEGIN:VCALENDAR
PRODID:-//Microsoft Corporation//Outlook 12.0 MIMEDIR//EN
VERSION:2.0
METHOD:PUBLISH
X-MS-OLK-FORCEINSPECTOROPEN:TRUE
BEGIN:VTIMEZONE
TZID:(UTC+10:00) Brisbane
BEGIN:STANDARD
DTSTART:16010101T000000
TZOFFSETFROM:+1000
TZOFFSETTO:+1000
END:STANDARD
END:VTIMEZONE
BEGIN:VEVENT
CLASS:PUBLIC
CREATED:20190111T054755Z
DESCRIPTION:Join 8\,000+ hair and beauty industry professionals and experie
	nce the latest in education\, products\, techniques\, equipment and entert
	ainment from the industry’s leading brands\, suppliers and talent!\n\nEv
	ent Details:\nSunday 28th July 9am – 4pm\nMonday 29th July 10am – 4pm\
	nBrisbane Convention & Exhibition Centre\, Merivale St\, South Brisbane\, 
	QLD\, 4101\nwww.BHBE.com.au\n
DTEND;TZID="(UTC+10:00) Brisbane":20190728T160000
DTSTAMP:20190111T015030Z
DTSTART;TZID="(UTC+10:00) Brisbane":20190728T100000
LAST-MODIFIED:20190111T054755Z
LOCATION:Brisbane Convention & Exhibition Centre\, Merivale St\, South Bris
	bane\, QLD\, 4101
RRULE:FREQ=DAILY;COUNT=2
SEQUENCE:1
SUMMARY;LANGUAGE=en-au:Brisbane Hair and Beauty Expo
TRANSP:OPAQUE
UID:71ejt3vb8mnj0f5u62ut5fp7k2@google.com
X-ALT-DESC;FMTTYPE=text/html:<!DOCTYPE HTML PUBLIC "-//W3C//DTD HTML 3.2//E
	N">\n<HTML>\n<HEAD>\n<META NAME="Generator" CONTENT="MS Exchange Server ve
	rsion 08.00.0681.000">\n<TITLE></TITLE>\n</HEAD>\n<BODY>\n<!-- Converted f
	rom text/rtf format -->\n\n<P DIR=LTR><SPAN LANG="en-au"><FONT FACE="Calib
	ri">Join</FONT></SPAN><SPAN LANG="en-au"> <FONT FACE="Calibri">7\,5</FONT>
	</SPAN><SPAN LANG="en-au"><FONT FACE="Calibri">00+ hair and beauty industr
	y professionals and experience the latest in education\, products\, techni
	ques\, and entertainment from the industry’s leading brands\, suppliers 
	and talent!</FONT></SPAN></P>\n\n<P DIR=LTR><SPAN LANG="en-au"><FONT FACE=
	"Calibri">Event Details:</FONT></SPAN></P>\n\n<P DIR=LTR><SPAN LANG="en-au
	"><FONT FACE="Calibri">Sunday 28th July 9am – 4pm</FONT></SPAN></P>\n\n<
	P DIR=LTR><SPAN LANG="en-au"><FONT FACE="Calibri">Monday 29th July 10am 
	– 4pm</FONT></SPAN></P>\n\n<P DIR=LTR><SPAN LANG="en-au"><FONT FACE="Cal
	ibri">Brisbane Convention &amp\; Exhibition Centre\, Merivale St\, South B
	risbane\, QLD\, 4101</FONT></SPAN></P>\n\n<P DIR=LTR><SPAN LANG="en-au"></
	SPAN><A HREF="http://www.BHBE.com.au"><SPAN LANG="en-au"><U><FONT COLOR="#
	0000FF" FACE="Calibri">www.BHBE.com.au</FONT></U></SPAN><SPAN LANG="en-au"
	></SPAN></A><SPAN LANG="en-au"></SPAN></P>\n\n<P DIR=LTR><SPAN LANG="en-au
	"></SPAN></P>\n\n<P DIR=LTR><SPAN LANG="en-au"><FONT FACE="Calibri">Beat t
	he queues and pre-purchase your tickets at</FONT></SPAN><SPAN LANG="en-au"
	> </SPAN><A HREF="http://www.bhbe.com.au"><SPAN LANG="en-au"><U><FONT COLO
	R="#0000FF" FACE="Calibri">www.bhbe.com.au</FONT></U></SPAN><SPAN LANG="en
	-au"></SPAN></A><SPAN LANG="en-au"></SPAN></P>\n\n</BODY>\n</HTML>
X-MICROSOFT-CDO-BUSYSTATUS:BUSY
X-MS-OLK-APPTLASTSEQUENCE:1
END:VEVENT
END:VCALENDAR
